BEGIN:VCALENDAR
VERSION:2.0
PRODID:-//Oda e Mjekëve te Kosovës - ECPv6.10.2//NONSGML v1.0//EN
CALSCALE:GREGORIAN
METHOD:PUBLISH
X-ORIGINAL-URL:https://omk-rks.org
X-WR-CALDESC:Events for Oda e Mjekëve te Kosovës
REFRESH-INTERVAL;VALUE=DURATION:PT1H
X-Robots-Tag:noindex
X-PUBLISHED-TTL:PT1H
BEGIN:VTIMEZONE
TZID:UTC
BEGIN:STANDARD
TZOFFSETFROM:+0000
TZOFFSETTO:+0000
TZNAME:UTC
DTSTART:20180101T000000
END:STANDARD
END:VTIMEZONE
BEGIN:VEVENT
DTSTART;VALUE=DATE:20180101
DTEND;VALUE=DATE:20190101
DTSTAMP:20260420T105951
CREATED:20181030T134201Z
LAST-MODIFIED:20181030T135756Z
UID:1424-1514764800-1546300799@omk-rks.org
SUMMARY:QKMF Istog
DESCRIPTION:Mbledhje profesionale
URL:https://omk-rks.org/event/shoqata-e-reumatologeve-te-kosoves/
END:VEVENT
BEGIN:VEVENT
DTSTART;TZID=UTC:20180901T080000
DTEND;TZID=UTC:20181231T170000
DTSTAMP:20260420T105951
CREATED:20181030T133556Z
LAST-MODIFIED:20181030T140555Z
UID:1418-1535788800-1546275600@omk-rks.org
SUMMARY:Accessible Quality Healthcare
DESCRIPTION:Kurs I Trajnimit 4 module
URL:https://omk-rks.org/event/accessible-quality-healthcare/
END:VEVENT
BEGIN:VEVENT
DTSTART;TZID=UTC:20180924T130000
DTEND;TZID=UTC:20180924T150000
DTSTAMP:20260420T105951
CREATED:20180925T075724Z
LAST-MODIFIED:20180925T075724Z
UID:1293-1537794000-1537801200@omk-rks.org
SUMMARY:Takimi i OMK-së me Komisionin Parlamentar për Shëndetësi dhe Mirëqenie Sociale
DESCRIPTION:Sot me datë 24 Shtator 2018 Komisioni Parlamentar për Shëndetësi dhe Mirëqenie Sociale ka zhvilluar takim në të cilin ka ftuar Odat e Profesionistëve Shëndetësorë. \nNë këtë takim\, kryetarët para komisionit paraqitën punën e bërë deri më tani si dhe kërkuan mbështetje të komisionit për ta vazhduar punën më të mirë të punëtorëve shëndetësorë. \nKryetari I Odës së Mjekëve të Kosovës\, Dr. Pleurat Sejdiu së bashku me nënkryetarët ishin prezent në këtë takim ku është biseduar gjendja në të cilën ishte pranuar Oda e Mjekëve nga kjo kryesi\, gjendja në të cilën ka arritur tani\, si dhe qëllimet që ka kjo Odë në të ardhmen. \nNdër të tjerash është biseduar edhe për bashkëpunimet e OMK me instituriconet tjera\, po ashtu temë diskutimi ishte edhe zhvillimi dhe funksionalizimi i Odave të Profesionistëve Shëndetësorë\, e në veçanti për Odën e Mjekëve\, duke marrë parasysh stagnimin katër vjeçar që kishte kjo Odë. \nKomisioni shprehi mbështetjen e punës së deritanishme dhe gatishmërinë për koordinim në të ardhmen.
URL:https://omk-rks.org/event/takimi-i-omk-se-me-komisionin-parlamentar-per-shendetesi-dhe-mireqenie-sociale/
END:VEVENT
END:VCALENDAR